BEGIN:VCALENDAR
VERSION:2.0
PRODID:-// - ECPv6.15.20//NONSGML v1.0//EN
CALSCALE:GREGORIAN
METHOD:PUBLISH
X-ORIGINAL-URL:https://www.simontischler.de
X-WR-CALDESC:Veranstaltungen für 
REFRESH-INTERVAL;VALUE=DURATION:PT1H
X-Robots-Tag:noindex
X-PUBLISHED-TTL:PT1H
BEGIN:VTIMEZONE
TZID:Europe/Berlin
BEGIN:DAYLIGHT
TZOFFSETFROM:+0100
TZOFFSETTO:+0200
TZNAME:CEST
DTSTART:20250330T010000
END:DAYLIGHT
BEGIN:STANDARD
TZOFFSETFROM:+0200
TZOFFSETTO:+0100
TZNAME:CET
DTSTART:20251026T010000
END:STANDARD
BEGIN:DAYLIGHT
TZOFFSETFROM:+0100
TZOFFSETTO:+0200
TZNAME:CEST
DTSTART:20260329T010000
END:DAYLIGHT
BEGIN:STANDARD
TZOFFSETFROM:+0200
TZOFFSETTO:+0100
TZNAME:CET
DTSTART:20261025T010000
END:STANDARD
BEGIN:DAYLIGHT
TZOFFSETFROM:+0100
TZOFFSETTO:+0200
TZNAME:CEST
DTSTART:20270328T010000
END:DAYLIGHT
BEGIN:STANDARD
TZOFFSETFROM:+0200
TZOFFSETTO:+0100
TZNAME:CET
DTSTART:20271031T010000
END:STANDARD
END:VTIMEZONE
BEGIN:VEVENT
DTSTART;TZID=Europe/Berlin:20260510T103000
DTEND;TZID=Europe/Berlin:20260510T120000
DTSTAMP:20260419T153547
CREATED:20251221T170518Z
LAST-MODIFIED:20260117T171305Z
UID:934-1778409000-1778414400@www.simontischler.de
SUMMARY:Kantatengottesdienst (Wenkheim)
DESCRIPTION:Johann Sebastian Bach: Kantate „Bisher habt ihr nichts gebeten“ (BWV 84)\n\nAlt: Kea Niedoba\nTenor: N. N.\nBass: Simon Tischler\n\nLeitung: Carsten Klomp
URL:https://www.simontischler.de/event/kantatengossedienst-wenkheim/
LOCATION:Kirche Wenkheim\, Herrenstraße 23\, Werbach-Wenkheim\, 97956
CATEGORIES:Gottesdienst,Konzert solo
END:VEVENT
END:VCALENDAR