BEGIN:VCALENDAR
VERSION:2.0
PRODID:-// - ECPv6.15.20//NONSGML v1.0//EN
CALSCALE:GREGORIAN
METHOD:PUBLISH
X-ORIGINAL-URL:https://www.simontischler.de
X-WR-CALDESC:Veranstaltungen für 
REFRESH-INTERVAL;VALUE=DURATION:PT1H
X-Robots-Tag:noindex
X-PUBLISHED-TTL:PT1H
BEGIN:VTIMEZONE
TZID:Europe/Berlin
BEGIN:DAYLIGHT
TZOFFSETFROM:+0100
TZOFFSETTO:+0200
TZNAME:CEST
DTSTART:20240331T010000
END:DAYLIGHT
BEGIN:STANDARD
TZOFFSETFROM:+0200
TZOFFSETTO:+0100
TZNAME:CET
DTSTART:20241027T010000
END:STANDARD
BEGIN:DAYLIGHT
TZOFFSETFROM:+0100
TZOFFSETTO:+0200
TZNAME:CEST
DTSTART:20250330T010000
END:DAYLIGHT
BEGIN:STANDARD
TZOFFSETFROM:+0200
TZOFFSETTO:+0100
TZNAME:CET
DTSTART:20251026T010000
END:STANDARD
BEGIN:DAYLIGHT
TZOFFSETFROM:+0100
TZOFFSETTO:+0200
TZNAME:CEST
DTSTART:20260329T010000
END:DAYLIGHT
BEGIN:STANDARD
TZOFFSETFROM:+0200
TZOFFSETTO:+0100
TZNAME:CET
DTSTART:20261025T010000
END:STANDARD
END:VTIMEZONE
BEGIN:VEVENT
DTSTART;TZID=Europe/Berlin:20250406T170000
DTEND;TZID=Europe/Berlin:20250406T200000
DTSTAMP:20260420T085046
CREATED:20250305T153121Z
LAST-MODIFIED:20260117T171454Z
UID:842-1743958800-1743969600@www.simontischler.de
SUMMARY:J. S. Bach: Johannespassion
DESCRIPTION:Kitzingen\, Pfarrkirche St. Johannes\nJohann Sebastian Bach: Johannespassion\, BWV 244\n\nAnke Hájková Endres\, Sopran\nAnna Haase von Brincken\, Alt\nStefan Schneider\, Tenor\nSven Fürst\, Bass\nSimon Tischler\, Bass (Jesus-Worte)\n\nKirchen- und Kammerchor St. Johannes\nVokalensemble des Egbert-Gymnasium Münsterschwarzach\n(Einstudierung: Mechthild Binzenhöfer)\n\nBarockorchester „la ciaccona“\, München\n\nLeitung: Christian Stegman\n 
URL:https://www.simontischler.de/event/j-s-bach-johannespassion/
LOCATION:Pfarrkirche St. Johannes\, Kitzingen\, Obere Kirchgasse 7\, Kitzingen\, 97318
CATEGORIES:Konzert solo
END:VEVENT
BEGIN:VEVENT
DTSTART;TZID=Europe/Berlin:20250413T170000
DTEND;TZID=Europe/Berlin:20250413T183000
DTSTAMP:20260420T085046
CREATED:20250305T154143Z
LAST-MODIFIED:20250324T073114Z
UID:849-1744563600-1744569000@www.simontischler.de
SUMMARY:Rossini: Petite Messe solennelle
DESCRIPTION:Aschaffenburg\, Christuskirche\nGioachino Rossini: Petite Messe solennelle\n\nAnna-Lucia Leone: Sopran\nSybille Bachmaier: Alt\nGert Bachmaier: Tenor\nSimon Tischler: Bass\n\nJohannes Möller: Klavier\nAndreas Karthäuser: Harmonium\n\nAschaffenburger Kantorei\n\nKMD Christoph Emanuel Seitz\, Leitung
URL:https://www.simontischler.de/event/rossini-petite-messe-solennelle/
LOCATION:Christuskirche Aschaffenburg\, Pfaffengasse 15\, Aschaffenburg\, 63769
CATEGORIES:Konzert solo
END:VEVENT
END:VCALENDAR