BEGIN:VCALENDAR
VERSION:2.0
PRODID:-// - ECPv6.15.20//NONSGML v1.0//EN
CALSCALE:GREGORIAN
METHOD:PUBLISH
X-ORIGINAL-URL:https://www.simontischler.de
X-WR-CALDESC:Veranstaltungen für 
REFRESH-INTERVAL;VALUE=DURATION:PT1H
X-Robots-Tag:noindex
X-PUBLISHED-TTL:PT1H
BEGIN:VTIMEZONE
TZID:Europe/Berlin
BEGIN:DAYLIGHT
TZOFFSETFROM:+0100
TZOFFSETTO:+0200
TZNAME:CEST
DTSTART:20230326T010000
END:DAYLIGHT
BEGIN:STANDARD
TZOFFSETFROM:+0200
TZOFFSETTO:+0100
TZNAME:CET
DTSTART:20231029T010000
END:STANDARD
BEGIN:DAYLIGHT
TZOFFSETFROM:+0100
TZOFFSETTO:+0200
TZNAME:CEST
DTSTART:20240331T010000
END:DAYLIGHT
BEGIN:STANDARD
TZOFFSETFROM:+0200
TZOFFSETTO:+0100
TZNAME:CET
DTSTART:20241027T010000
END:STANDARD
BEGIN:DAYLIGHT
TZOFFSETFROM:+0100
TZOFFSETTO:+0200
TZNAME:CEST
DTSTART:20250330T010000
END:DAYLIGHT
BEGIN:STANDARD
TZOFFSETFROM:+0200
TZOFFSETTO:+0100
TZNAME:CET
DTSTART:20251026T010000
END:STANDARD
END:VTIMEZONE
BEGIN:VEVENT
DTSTART;TZID=Europe/Berlin:20241225T100000
DTEND;TZID=Europe/Berlin:20241225T113000
DTSTAMP:20260420T154826
CREATED:20250305T152027Z
LAST-MODIFIED:20250305T152212Z
UID:840-1735120800-1735126200@www.simontischler.de
SUMMARY:Haydn: Missa Sancti Nicolai
DESCRIPTION:Würzburg\, Kiliansdom\nGottesdienst zum Ersten Weihnachtsfeiertag\n\nJoseph Haydn: Missa Sancti Nicolai\n\nNN: Sopran\nKea Nieboba: Alt\nMarcel Hubner: Tenor\n\nCamerata Würzburg\n\nDKM Alexander Rüth\, Leitung
URL:https://www.simontischler.de/event/haydn-missa-sancti-nicolai/
LOCATION:Kiliansdom Würzburg\, Domstraße 40\, Würzburg\, 97070\, Deutschland
CATEGORIES:Gottesdienst,Konzert solo
END:VEVENT
END:VCALENDAR