BEGIN:VCALENDAR
VERSION:2.0
PRODID:-// - ECPv6.15.20//NONSGML v1.0//EN
CALSCALE:GREGORIAN
METHOD:PUBLISH
X-ORIGINAL-URL:https://www.simontischler.de
X-WR-CALDESC:Veranstaltungen für 
REFRESH-INTERVAL;VALUE=DURATION:PT1H
X-Robots-Tag:noindex
X-PUBLISHED-TTL:PT1H
BEGIN:VTIMEZONE
TZID:Europe/Berlin
BEGIN:DAYLIGHT
TZOFFSETFROM:+0100
TZOFFSETTO:+0200
TZNAME:CEST
DTSTART:20230326T010000
END:DAYLIGHT
BEGIN:STANDARD
TZOFFSETFROM:+0200
TZOFFSETTO:+0100
TZNAME:CET
DTSTART:20231029T010000
END:STANDARD
BEGIN:DAYLIGHT
TZOFFSETFROM:+0100
TZOFFSETTO:+0200
TZNAME:CEST
DTSTART:20240331T010000
END:DAYLIGHT
BEGIN:STANDARD
TZOFFSETFROM:+0200
TZOFFSETTO:+0100
TZNAME:CET
DTSTART:20241027T010000
END:STANDARD
BEGIN:DAYLIGHT
TZOFFSETFROM:+0100
TZOFFSETTO:+0200
TZNAME:CEST
DTSTART:20250330T010000
END:DAYLIGHT
BEGIN:STANDARD
TZOFFSETFROM:+0200
TZOFFSETTO:+0100
TZNAME:CET
DTSTART:20251026T010000
END:STANDARD
END:VTIMEZONE
BEGIN:VEVENT
DTSTART;TZID=Europe/Berlin:20241124T170000
DTEND;TZID=Europe/Berlin:20241124T170000
DTSTAMP:20260420T171832
CREATED:20240616T143552Z
LAST-MODIFIED:20260117T171513Z
UID:808-1732467600-1732467600@www.simontischler.de
SUMMARY:Mendelssohn: Elias
DESCRIPTION:Felix Mendelssohn Bartholdy: Elias\n\nVictoria Sommerer\, Sopran\nKea Niedoba\, Alt\nOliver Kringel\, Tenor\nSimon Tischler\, Bass\n\nKantorei St. Michael Lohr am Main\nLa Strada Armónica\n\nLeitung: Tyron Kretzschmar
URL:https://www.simontischler.de/event/mendelssohn-elias/
LOCATION:Stadtpfarrkirche St. Michael\, Lohr a. M.\, Kirchplatz\, 97816 Lohr a. M.
CATEGORIES:Konzert solo
END:VEVENT
END:VCALENDAR