BEGIN:VCALENDAR
VERSION:2.0
PRODID:-// - ECPv6.15.20//NONSGML v1.0//EN
CALSCALE:GREGORIAN
METHOD:PUBLISH
X-ORIGINAL-URL:https://www.simontischler.de
X-WR-CALDESC:Veranstaltungen für 
REFRESH-INTERVAL;VALUE=DURATION:PT1H
X-Robots-Tag:noindex
X-PUBLISHED-TTL:PT1H
BEGIN:VTIMEZONE
TZID:Europe/Berlin
BEGIN:DAYLIGHT
TZOFFSETFROM:+0100
TZOFFSETTO:+0200
TZNAME:CEST
DTSTART:20230326T010000
END:DAYLIGHT
BEGIN:STANDARD
TZOFFSETFROM:+0200
TZOFFSETTO:+0100
TZNAME:CET
DTSTART:20231029T010000
END:STANDARD
BEGIN:DAYLIGHT
TZOFFSETFROM:+0100
TZOFFSETTO:+0200
TZNAME:CEST
DTSTART:20240331T010000
END:DAYLIGHT
BEGIN:STANDARD
TZOFFSETFROM:+0200
TZOFFSETTO:+0100
TZNAME:CET
DTSTART:20241027T010000
END:STANDARD
BEGIN:DAYLIGHT
TZOFFSETFROM:+0100
TZOFFSETTO:+0200
TZNAME:CEST
DTSTART:20250330T010000
END:DAYLIGHT
BEGIN:STANDARD
TZOFFSETFROM:+0200
TZOFFSETTO:+0100
TZNAME:CET
DTSTART:20251026T010000
END:STANDARD
END:VTIMEZONE
BEGIN:VEVENT
DTSTART;TZID=Europe/Berlin:20240721T170000
DTEND;TZID=Europe/Berlin:20240721T170000
DTSTAMP:20260423T093050
CREATED:20240309T172359Z
LAST-MODIFIED:20240310T174623Z
UID:718-1721581200-1721581200@www.simontischler.de
SUMMARY:O Praise the Lord with one Consent
DESCRIPTION:Geistliches Chorkonzert mit Werken von Händel und Haydn\n\nGeorg Friedrich Händel: Psalm „O praise the Lord with one Consent“ HWV 254 für Chor\, Soli und Orchester\nJoseph Haydn: Mariazeller Messe C-Dur\, Hob. XXII:8 für Soli\, Chor und Orchester\n\nAnna-Lucia Leone (Sopran)\nSybille Bachmaier (Alt)\nGert Bachmaier (Tenor)\nSimon Tischler (Bass)\n\nChristian Stegmann (Orgel)\nCollegium Instrumentale (Annalisa Staab\, Konzertmeisterin)\n\nKlingenberger Singkreis\nPeter Schäfer\, Leitung
URL:https://www.simontischler.de/event/o-praise-the-lord-with-one-consent/
LOCATION:Klosterkirche Himmethal\, Himmelthal\, 63820 Elsenfeld\, Deutschland
CATEGORIES:Konzert solo
ATTACH;FMTTYPE=image/jpeg:https://www.simontischler.de/wp-content/uploads/2024/03/himmelthal_1.jpg
END:VEVENT
END:VCALENDAR